BEGIN:VCALENDAR
VERSION:2.0
PRODID:-//eventon.com NONSGML v1.0//EN
BEGIN:VEVENT
UID:69e5fd069646b
DTSTAMP:20260420T101638
DTSTART:20260507T080000Z
DTEND:20260507T090000Z
TZID:Asia/Shanghai
LOCATION:腾讯会议直播 
SUMMARY:[网络研讨会] 光伏出海企业数字化设计平台专题
DESCRIPTION:  光伏方案设计仿真 + 电气设计与选型产品定位与核心能力 海外市场趋势、企业面临的设计协同挑战、数字化平台的战略价值。 以真实海外项目场景为例，分四步演示：①全球气象数据库与3D建模仿真；②逆变器选型与发电量计算；③消纳储能与经济分析；④导出符合当地规范的报告和电气深化图 &nbsp;\nhttps://tracesoftware.cn/events/%e5%85%89%e4%bc%8f%e5%87%ba%e6%b5%b7%e4%bc%81%e4%b8%9a%e6%95%b0%e5%ad%97%e5%8c%96%e8%ae%be%e8%ae%a1%e5%b9%b3%e5%8f%b0%e4%b8%93%e9%a2%98/
URL:https://tracesoftware.cn/events/%e5%85%89%e4%bc%8f%e5%87%ba%e6%b5%b7%e4%bc%81%e4%b8%9a%e6%95%b0%e5%ad%97%e5%8c%96%e8%ae%be%e8%ae%a1%e5%b9%b3%e5%8f%b0%e4%b8%93%e9%a2%98/
END:VEVENT
END:VCALENDAR