BEGIN:VCALENDAR
VERSION:2.0
PRODID:-//eventon.com NONSGML v1.0//EN
BEGIN:VEVENT
UID:69e6038c65fcc
DTSTAMP:20260420T104428
DTSTART:20250806
DTEND:20250809
TZID:Asia/Shanghai
LOCATION:
SUMMARY:关于举办“STEM教育与跨学科人才培养改革创新”研讨会暨“项目化教学与课程开发师资”培训班的通知
DESCRIPTION: 关于举办“STEM教育与跨学科人才培养改革创新”研讨会 暨“项目化教学与课程开发师资”培训班的通知 &nbsp;\nhttps://tracesoftware.cn/events/stem-seminar-archelios-training/
URL:https://tracesoftware.cn/events/stem-seminar-archelios-training/
END:VEVENT
END:VCALENDAR