BEGIN:VCALENDAR
VERSION:2.0
PRODID:-//eventon.com NONSGML v1.0//EN
BEGIN:VEVENT
UID:69e619aeb5593
DTSTAMP:20260420T121854
DTSTART:20191120T140000Z
DTEND:20191120T150000Z
TZID:UTC
LOCATION:上海 
SUMMARY:【WEBINAR】archelios™ Pro的光伏电站建模，选型，计算及经济性分析
DESCRIPTION: archelios™ Pro的光伏电站建模，选型，计算及经济性分析\nhttps://tracesoftware.cn/events/%e3%80%90webinar%e3%80%91archelios-pro%e7%9a%84%e5%85%89%e4%bc%8f%e7%94%b5%e7%ab%99%e5%bb%ba%e6%a8%a1%ef%bc%8c%e9%80%89%e5%9e%8b%ef%bc%8c%e8%ae%a1%e7%ae%97%e5%8f%8a%e7%bb%8f%e6%b5%8e%e6%80%a7-4/
URL:https://tracesoftware.cn/events/%e3%80%90webinar%e3%80%91archelios-pro%e7%9a%84%e5%85%89%e4%bc%8f%e7%94%b5%e7%ab%99%e5%bb%ba%e6%a8%a1%ef%bc%8c%e9%80%89%e5%9e%8b%ef%bc%8c%e8%ae%a1%e7%ae%97%e5%8f%8a%e7%bb%8f%e6%b5%8e%e6%80%a7-4/
END:VEVENT
END:VCALENDAR