BEGIN:VCALENDAR
VERSION:2.0
PRODID:-//eventon.com NONSGML v1.0//EN
BEGIN:VEVENT
UID:69e754da427a4
DTSTAMP:20260421T104338
DTSTART:20180716
DTEND:20180722
TZID:UTC
LOCATION:武汉 
SUMMARY:2018湖北省职业院校教师素质提高计划机电技术应用企业实践（中职班）
DESCRIPTION: 2018湖北省职业院校教师素质提高计划机电技术应用企业实践（中职班）\nhttps://tracesoftware.cn/events/2018%e6%b9%96%e5%8c%97%e7%9c%81%e8%81%8c%e4%b8%9a%e9%99%a2%e6%a0%a1%e6%95%99%e5%b8%88%e7%b4%a0%e8%b4%a8%e6%8f%90%e9%ab%98%e8%ae%a1%e5%88%92%e6%9c%ba%e7%94%b5%e6%8a%80%e6%9c%af%e5%ba%94%e7%94%a8/
URL:https://tracesoftware.cn/events/2018%e6%b9%96%e5%8c%97%e7%9c%81%e8%81%8c%e4%b8%9a%e9%99%a2%e6%a0%a1%e6%95%99%e5%b8%88%e7%b4%a0%e8%b4%a8%e6%8f%90%e9%ab%98%e8%ae%a1%e5%88%92%e6%9c%ba%e7%94%b5%e6%8a%80%e6%9c%af%e5%ba%94%e7%94%a8/
END:VEVENT
END:VCALENDAR