BEGIN:VCALENDAR
VERSION:2.0
PRODID:-//eventon.com NONSGML v1.0//EN
BEGIN:VEVENT
UID:69e76b5319589
DTSTAMP:20260421T121931
DTSTART:20180621T140000Z
DTEND:20180621T150000Z
TZID:UTC
LOCATION:上海 
SUMMARY:elecworks高级讲座——elecworks for PTC Creo ——布线及报表
DESCRIPTION: elecworks高级讲座——elecworks for PTC Creo ——布线及报表\nhttps://tracesoftware.cn/events/elecworks%e9%ab%98%e7%ba%a7%e8%ae%b2%e5%ba%a7-elecworks-ptc-creo-%e5%b8%83%e7%ba%bf%e5%8f%8a%e6%8a%a5%e8%a1%a8/
URL:https://tracesoftware.cn/events/elecworks%e9%ab%98%e7%ba%a7%e8%ae%b2%e5%ba%a7-elecworks-ptc-creo-%e5%b8%83%e7%ba%bf%e5%8f%8a%e6%8a%a5%e8%a1%a8/
END:VEVENT
END:VCALENDAR