BEGIN:VCALENDAR
VERSION:2.0
PRODID:-//eventon.com NONSGML v1.0//EN
BEGIN:VEVENT
UID:69e4d390aca73
DTSTAMP:20260419T130728
DTSTART:20180823
DTEND:20180824
TZID:UTC
LOCATION:上海 
SUMMARY:基础培训课程——elecworks初级培训
DESCRIPTION: 基础培训课程——elecworks初级培训\nhttps://tracesoftware.cn/events/%e5%9f%ba%e7%a1%80%e5%9f%b9%e8%ae%ad%e8%af%be%e7%a8%8b-elecworks%e5%88%9d%e7%ba%a7%e5%9f%b9%e8%ae%ad-0823/
URL:https://tracesoftware.cn/events/%e5%9f%ba%e7%a1%80%e5%9f%b9%e8%ae%ad%e8%af%be%e7%a8%8b-elecworks%e5%88%9d%e7%ba%a7%e5%9f%b9%e8%ae%ad-0823/
END:VEVENT
END:VCALENDAR