BEGIN:VCALENDAR
VERSION:2.0
PRODID:-//eventon.com NONSGML v1.0//EN
BEGIN:VEVENT
UID:69e7500c24614
DTSTAMP:20260421T102308
DTSTART:20180530T150000Z
DTEND:20180530T160000Z
TZID:UTC
LOCATION:
SUMMARY:elec calc 网络演示DEMO—— elec calc电气系统设计与分析计算软件
DESCRIPTION: elec calc 网络演示DEMO—— elec calc电气系统设计与分析计算软件\nhttps://tracesoftware.cn/events/elec-calc-webinar-demo-7/
URL:https://tracesoftware.cn/events/elec-calc-webinar-demo-7/
END:VEVENT
END:VCALENDAR