BEGIN:VCALENDAR
VERSION:2.0
PRODID:-//eventon.com NONSGML v1.0//EN
BEGIN:VEVENT
UID:69e602fc38eb3
DTSTAMP:20260420T104204
DTSTART:20170928T140000Z
DTEND:20170928T150000Z
TZID:UTC
LOCATION:
SUMMARY:elecworks网上课堂—— elecworks交叉引用及图纸转至及DEMO演示
DESCRIPTION: elecworks网上课堂—— elecworks交叉引用及图纸转至及DEMO演示\nhttps://tracesoftware.cn/events/elecworks_webinar_demo_0928/
URL:https://tracesoftware.cn/events/elecworks_webinar_demo_0928/
END:VEVENT
END:VCALENDAR