BEGIN:VCALENDAR
VERSION:2.0
PRODID:-//eventon.com NONSGML v1.0//EN
BEGIN:VEVENT
UID:69e618c8f2c09
DTSTAMP:20260420T121504
DTSTART:20170727T140000Z
DTEND:20170727T150000Z
TZID:UTC
LOCATION:
SUMMARY:elecworks网上课堂——elecworks模板定制 及DEMO演示
DESCRIPTION: elecworks网上课堂——elecworks模板定制 及DEMO演示\nhttps://tracesoftware.cn/events/elecworks_webinar_demo_0727/
URL:https://tracesoftware.cn/events/elecworks_webinar_demo_0727/
END:VEVENT
END:VCALENDAR