BEGIN:VCALENDAR
VERSION:2.0
PRODID:-//eventon.com NONSGML v1.0//EN
BEGIN:VEVENT
UID:69e602cad5854
DTSTAMP:20260420T104114
DTSTART:20170713T140000Z
DTEND:20170713T150000Z
TZID:UTC
LOCATION:上海 
SUMMARY:elecworks 网上课堂——elecworks绘制电机正反转项目 及DEMO演示
DESCRIPTION: elecworks 网上课堂——elecworks绘制电机正反转项目 及DEMO演示\nhttps://tracesoftware.cn/events/elecworks_webinar_demo_0713/
URL:https://tracesoftware.cn/events/elecworks_webinar_demo_0713/
END:VEVENT
END:VCALENDAR