BEGIN:VCALENDAR
VERSION:2.0
PRODID:-//eventon.com NONSGML v1.0//EN
BEGIN:VEVENT
UID:69e602ddd02ac
DTSTAMP:20260420T104133
DTSTART:20170601
DTEND:20170602
TZID:UTC
LOCATION:石家庄 
SUMMARY:河北科技大学elecworks合作教学中心揭牌&电气设计培训
DESCRIPTION: 河北科技大学elecworks合作教学中心揭牌&电气设计培训\nhttps://tracesoftware.cn/events/elecworks_education_cooperation_20170601/
URL:https://tracesoftware.cn/events/elecworks_education_cooperation_20170601/
END:VEVENT
END:VCALENDAR